BEGIN:VCALENDAR
VERSION:2.0
PRODID:-//Bell Tower Wellness - ECPv6.9.1//NONSGML v1.0//EN
CALSCALE:GREGORIAN
METHOD:PUBLISH
X-WR-CALNAME:Bell Tower Wellness
X-ORIGINAL-URL:https://eventregistration.belltowerwellness.com
X-WR-CALDESC:Events for Bell Tower Wellness
REFRESH-INTERVAL;VALUE=DURATION:PT1H
X-Robots-Tag:noindex
X-PUBLISHED-TTL:PT1H
BEGIN:VTIMEZONE
TZID:America/Toronto
BEGIN:DAYLIGHT
TZOFFSETFROM:-0500
TZOFFSETTO:-0400
TZNAME:EDT
DTSTART:20260308T070000
END:DAYLIGHT
BEGIN:STANDARD
TZOFFSETFROM:-0400
TZOFFSETTO:-0500
TZNAME:EST
DTSTART:20261101T060000
END:STANDARD
END:VTIMEZONE
BEGIN:VEVENT
DTSTART;TZID=America/Toronto:20260531T083000
DTEND;TZID=America/Toronto:20260531T093000
DTSTAMP:20260419T182241
CREATED:20260318T233101Z
LAST-MODIFIED:20260328T201534Z
UID:10001313-1780216200-1780219800@eventregistration.belltowerwellness.com
SUMMARY:Pilates HIIT
DESCRIPTION:Fast paced\, high energy HIIT class to work your entire body.  Low impact\, high repetitions.  One of the best workouts to increase and improve endurance\, build muscular strength and burn fat.  Using Pilates principals of control and mind-body connection to turn on the core muscles.  Denise will give you a fun and high energy cardio workout to sweat and burn calories.  All fitness levels are welcome.
URL:https://eventregistration.belltowerwellness.com/event/pilates-hiit-166/
LOCATION:Bell Tower\, 639 Bowan Street\, Mount Brydges\, ON\, N0L 1W0\, Canada
CATEGORIES:Event Space Rentals,Fitness Classes (Yoga/Pilates)
ATTACH;FMTTYPE=image/webp:https://eventregistration.belltowerwellness.com/wp-content/uploads/2025/02/pilates-HIIT-workout-e1739985147798.webp
END:VEVENT
BEGIN:VEVENT
DTSTART;TZID=America/Toronto:20260531T180000
DTEND;TZID=America/Toronto:20260531T193000
DTSTAMP:20260419T182241
CREATED:20260219T143619Z
LAST-MODIFIED:20260301T152952Z
UID:10001273-1780250400-1780255800@eventregistration.belltowerwellness.com
SUMMARY:Full Moon Sound Bath
DESCRIPTION:Join us for a 90 minute immersive sound bath beneath the energy of the full moon. \nThis deeply restorative experience uses the gentle resonance of crystal singing bowls\, and other meditative instruments to calm the nervous system\, release tension\, and invite relaxation and clarity.  The full moon offers a beautiful moment to pause\, and reset. \n  \nFacilitated by Michele Kujawa\, sound bath facilitator and vocalist\, known for creating soothing\, spacious soundscapes that support deep rest and renewal.
URL:https://eventregistration.belltowerwellness.com/event/full-moon-sound-bath/
LOCATION:Bell Tower\, 639 Bowan Street\, Mount Brydges\, ON\, N0L 1W0\, Canada
CATEGORIES:Event Space Rentals,Monthly Workshops
ATTACH;FMTTYPE=image/jpeg:https://eventregistration.belltowerwellness.com/wp-content/uploads/2026/02/image_123650291-1-e1771511638772.jpg
END:VEVENT
END:VCALENDAR