BEGIN:VCALENDAR
VERSION:2.0
PRODID:-//Bell Tower Wellness - ECPv6.9.1//NONSGML v1.0//EN
CALSCALE:GREGORIAN
METHOD:PUBLISH
X-WR-CALNAME:Bell Tower Wellness
X-ORIGINAL-URL:https://eventregistration.belltowerwellness.com
X-WR-CALDESC:Events for Bell Tower Wellness
REFRESH-INTERVAL;VALUE=DURATION:PT1H
X-Robots-Tag:noindex
X-PUBLISHED-TTL:PT1H
BEGIN:VTIMEZONE
TZID:America/Toronto
BEGIN:DAYLIGHT
TZOFFSETFROM:-0500
TZOFFSETTO:-0400
TZNAME:EDT
DTSTART:20260308T070000
END:DAYLIGHT
BEGIN:STANDARD
TZOFFSETFROM:-0400
TZOFFSETTO:-0500
TZNAME:EST
DTSTART:20261101T060000
END:STANDARD
END:VTIMEZONE
BEGIN:VEVENT
DTSTART;TZID=America/Toronto:20260913T150000
DTEND;TZID=America/Toronto:20260913T163000
DTSTAMP:20260419T230333
CREATED:20260217T164318Z
LAST-MODIFIED:20260301T152852Z
UID:10001270-1789311600-1789317000@eventregistration.belltowerwellness.com
SUMMARY:Kirtan Concert
DESCRIPTION:Come together for a joyful afternoon of community\, chanting and devotion! \nThe sacred\, peaceful sound vibrations of the mantras will stay with you for days to come. \nAll voices are welcome—no experience needed. \n“Rachel is a Canadian mantra artist\, yoga teacher (RYT-1000)\, and Reiki/sound healing practitioner\, celebrated for her soulful melodies and inspiring performances. Her music\, including her acclaimed second album SHE RISES\, draws on the Divine Feminine\, to create a pathway to healing\, inner strength\, and connection to sacred power.”
URL:https://eventregistration.belltowerwellness.com/event/kirtan-concert-4/
LOCATION:Bell Tower\, 639 Bowan Street\, Mount Brydges\, ON\, N0L 1W0\, Canada
CATEGORIES:Event Space Rentals,Monthly Workshops
ATTACH;FMTTYPE=image/webp:https://eventregistration.belltowerwellness.com/wp-content/uploads/2025/02/rsw_600cg_true-1-e1739491730229.webp
END:VEVENT
END:VCALENDAR