BEGIN:VCALENDAR
VERSION:2.0
PRODID:-//Bell Tower Wellness - ECPv6.9.1//NONSGML v1.0//EN
CALSCALE:GREGORIAN
METHOD:PUBLISH
X-ORIGINAL-URL:https://eventregistration.belltowerwellness.com
X-WR-CALDESC:Events for Bell Tower Wellness
REFRESH-INTERVAL;VALUE=DURATION:PT1H
X-Robots-Tag:noindex
X-PUBLISHED-TTL:PT1H
BEGIN:VTIMEZONE
TZID:America/Toronto
BEGIN:DAYLIGHT
TZOFFSETFROM:-0500
TZOFFSETTO:-0400
TZNAME:EDT
DTSTART:20260308T070000
END:DAYLIGHT
BEGIN:STANDARD
TZOFFSETFROM:-0400
TZOFFSETTO:-0500
TZNAME:EST
DTSTART:20261101T060000
END:STANDARD
END:VTIMEZONE
BEGIN:VEVENT
DTSTART;TZID=America/Toronto:20260524T083000
DTEND;TZID=America/Toronto:20260524T093000
DTSTAMP:20260420T121748
CREATED:20260318T233103Z
LAST-MODIFIED:20260318T233103Z
UID:10001312-1779611400-1779615000@eventregistration.belltowerwellness.com
SUMMARY:Pilates HIIT
DESCRIPTION:Fast paced\, high energy HIIT class to work your entire body.  Low impact\, high repetitions.  One of the best workouts to increase and improve endurance\, build muscular strength and burn fat.  Using Pilates principals of control and mind-body connection to turn on the core muscles.  Denise will give you a fun and high energy cardio workout to sweat and burn calories.  All fitness levels are welcome.
URL:https://eventregistration.belltowerwellness.com/event/pilates-hiit-167/
LOCATION:Bell Tower\, 639 Bowan Street\, Mount Brydges\, ON\, N0L 1W0\, Canada
CATEGORIES:Event Space Rentals,Fitness Classes (Yoga/Pilates)
ATTACH;FMTTYPE=image/webp:https://eventregistration.belltowerwellness.com/wp-content/uploads/2025/02/pilates-HIIT-workout-e1739985147798.webp
END:VEVENT
BEGIN:VEVENT
DTSTART;TZID=America/Toronto:20260524T103000
DTEND;TZID=America/Toronto:20260524T123000
DTSTAMP:20260420T121748
CREATED:20260331T031458Z
LAST-MODIFIED:20260402T144049Z
UID:10001383-1779618600-1779625800@eventregistration.belltowerwellness.com
SUMMARY:The Italian Pasta & Plate Painting Workshop
DESCRIPTION:The Italian Pasta & Plate Workshop \nMake your own Pasta: with Chef Katia Louzada from Foodie\, Learn how to make fresh pasta from scratch in a fun and welcoming hands-on environment. \nPaint your own plate: With Sthefani Schiavon from Butterfly Craft Studio.  Create your own hand-painted porcelain plate and take home a beautiful personalized keepsake. \nBeginner Friendly\, all materials included! \n  \n 
URL:https://eventregistration.belltowerwellness.com/event/the-italian-pasta-plate-painting-workshop/
LOCATION:Bell Tower\, 639 Bowan Street\, Mount Brydges\, ON\, N0L 1W0\, Canada
CATEGORIES:Event Space Rentals,Monthly Workshops
ATTACH;FMTTYPE=image/png:https://eventregistration.belltowerwellness.com/wp-content/uploads/2026/03/60398-e1775140739383.png
END:VEVENT
END:VCALENDAR