BEGIN:VCALENDAR
VERSION:2.0
PRODID:-//Bell Tower Wellness - ECPv6.9.1//NONSGML v1.0//EN
CALSCALE:GREGORIAN
METHOD:PUBLISH
X-WR-CALNAME:Bell Tower Wellness
X-ORIGINAL-URL:https://eventregistration.belltowerwellness.com
X-WR-CALDESC:Events for Bell Tower Wellness
REFRESH-INTERVAL;VALUE=DURATION:PT1H
X-Robots-Tag:noindex
X-PUBLISHED-TTL:PT1H
BEGIN:VTIMEZONE
TZID:America/Toronto
BEGIN:DAYLIGHT
TZOFFSETFROM:-0500
TZOFFSETTO:-0400
TZNAME:EDT
DTSTART:20260308T070000
END:DAYLIGHT
BEGIN:STANDARD
TZOFFSETFROM:-0400
TZOFFSETTO:-0500
TZNAME:EST
DTSTART:20261101T060000
END:STANDARD
END:VTIMEZONE
BEGIN:VEVENT
DTSTART;TZID=America/Toronto:20261206T163000
DTEND;TZID=America/Toronto:20261206T180000
DTSTAMP:20260420T221621
CREATED:20260217T165114Z
LAST-MODIFIED:20260301T152521Z
UID:10001272-1796574600-1796580000@eventregistration.belltowerwellness.com
SUMMARY:Candlelit Sound Bath with Michele
DESCRIPTION:Join Michele in a special candle lit sound bath. \nBathe in candlelight and sound as you take a pause to re-centre and  absorb some healing energy. \nLet soothing tones of crystal bowls\, drum\, chimes\, and voice guide you into deep rest and renewal. \nAn evening to soften\, breathe\, and reconnect with yourself — illuminated by the gentle glow of candlelight.
URL:https://eventregistration.belltowerwellness.com/event/candlelit-sound-bath-with-michele-3/
LOCATION:Bell Tower\, 639 Bowan Street\, Mount Brydges\, ON\, N0L 1W0\, Canada
CATEGORIES:Event Space Rentals,Monthly Workshops
ATTACH;FMTTYPE=image/jpeg:https://eventregistration.belltowerwellness.com/wp-content/uploads/2025/12/image1-5-e1765909249136.jpeg
END:VEVENT
BEGIN:VEVENT
DTSTART;TZID=America/Toronto:20261231T080000
DTEND;TZID=America/Toronto:20261231T170000
DTSTAMP:20260420T221621
CREATED:20260323T225909Z
LAST-MODIFIED:20260419T172506Z
UID:10001378-1798704000-1798736400@eventregistration.belltowerwellness.com
SUMMARY:Test
DESCRIPTION:
URL:https://eventregistration.belltowerwellness.com/event/test-3/
LOCATION:Bell Tower\, 639 Bowan Street\, Mount Brydges\, ON\, N0L 1W0\, Canada
CATEGORIES:Event Space Rentals,Monthly Workshops
END:VEVENT
END:VCALENDAR