BEGIN:VCALENDAR
VERSION:2.0
PRODID:-//Bell Tower Wellness - ECPv6.9.1//NONSGML v1.0//EN
CALSCALE:GREGORIAN
METHOD:PUBLISH
X-ORIGINAL-URL:https://eventregistration.belltowerwellness.com
X-WR-CALDESC:Events for Bell Tower Wellness
REFRESH-INTERVAL;VALUE=DURATION:PT1H
X-Robots-Tag:noindex
X-PUBLISHED-TTL:PT1H
BEGIN:VTIMEZONE
TZID:America/Toronto
BEGIN:DAYLIGHT
TZOFFSETFROM:-0500
TZOFFSETTO:-0400
TZNAME:EDT
DTSTART:20260308T070000
END:DAYLIGHT
BEGIN:STANDARD
TZOFFSETFROM:-0400
TZOFFSETTO:-0500
TZNAME:EST
DTSTART:20261101T060000
END:STANDARD
END:VTIMEZONE
BEGIN:VEVENT
DTSTART;TZID=America/Toronto:20260505T084500
DTEND;TZID=America/Toronto:20260505T094500
DTSTAMP:20260420T004737
CREATED:20260318T233514Z
LAST-MODIFIED:20260318T233514Z
UID:10001319-1777970700-1777974300@eventregistration.belltowerwellness.com
SUMMARY:Pilates HIIT
DESCRIPTION:Fast paced\, high energy HIIT class to work your entire body.  Low impact\, high repetitions.  One of the best workouts to increase and improve endurance\, build muscular strength and burn fat.  Using Pilates principals of control and mind-body connection to turn on the core muscles.  Denise will give you a fun and high energy cardio workout to sweat and burn calories.  All fitness levels are welcome.
URL:https://eventregistration.belltowerwellness.com/event/pilates-hiit-180/
LOCATION:Bell Tower\, 639 Bowan Street\, Mount Brydges\, ON\, N0L 1W0\, Canada
CATEGORIES:Event Space Rentals,Fitness Classes (Yoga/Pilates)
ATTACH;FMTTYPE=image/webp:https://eventregistration.belltowerwellness.com/wp-content/uploads/2025/02/pilates-HIIT-workout-e1739980096511-1-1-1-1-e1739985559367-1.webp
END:VEVENT
BEGIN:VEVENT
DTSTART;TZID=America/Toronto:20260505T180000
DTEND;TZID=America/Toronto:20260505T190000
DTSTAMP:20260420T004737
CREATED:20260318T233452Z
LAST-MODIFIED:20260318T233452Z
UID:10001329-1778004000-1778007600@eventregistration.belltowerwellness.com
SUMMARY:Pilates
DESCRIPTION:Pilates is a full body workout that is designed to increase strength\, flexibility\, and balance using controlled movements\, postural alignment and breathing.
URL:https://eventregistration.belltowerwellness.com/event/pilates-46/
LOCATION:Bell Tower\, 639 Bowan Street\, Mount Brydges\, ON\, N0L 1W0\, Canada
CATEGORIES:Event Space Rentals,Fitness Classes (Yoga/Pilates)
ATTACH;FMTTYPE=image/jpeg:https://eventregistration.belltowerwellness.com/wp-content/uploads/2025/10/pilates-scaled-e1759675515550-2-2-1.jpg
END:VEVENT
BEGIN:VEVENT
DTSTART;TZID=America/Toronto:20260505T191500
DTEND;TZID=America/Toronto:20260505T200500
DTSTAMP:20260420T004737
CREATED:20260330T153753Z
LAST-MODIFIED:20260330T153753Z
UID:10001389-1778008500-1778011500@eventregistration.belltowerwellness.com
SUMMARY:Zumba Drop in class
DESCRIPTION:Every 50-minute class is a trip around the world\, packed with different rhythms\, heart-pumping beats\, and moves that make you forget you’re even working out. In Zumba\, we use a technique called “layering” to build progression within each song: we start with base movement\, add variations\, then throw in some sparkle to top it off! \n  \nYou’re walking in with purpose — and I’m here to help you crush those goals. Whether you want to level up your fitness or just leave feeling empowered and ready to kick butt at life… I’ve got you. \n\nLet’s turn up the volume and get moving. 
URL:https://eventregistration.belltowerwellness.com/event/zumba-drop-in-class-8/
LOCATION:Bell Tower\, 639 Bowan Street\, Mount Brydges\, ON\, N0L 1W0\, Canada
CATEGORIES:Event Space Rentals,Fitness Classes (Yoga/Pilates)
ATTACH;FMTTYPE=image/jpeg:https://eventregistration.belltowerwellness.com/wp-content/uploads/2026/03/Zumba-e1772389989383.jpg
END:VEVENT
END:VCALENDAR