BEGIN:VCALENDAR
VERSION:2.0
PRODID:-//Bell Tower Wellness - ECPv6.9.1//NONSGML v1.0//EN
CALSCALE:GREGORIAN
METHOD:PUBLISH
X-WR-CALNAME:Bell Tower Wellness
X-ORIGINAL-URL:https://eventregistration.belltowerwellness.com
X-WR-CALDESC:Events for Bell Tower Wellness
REFRESH-INTERVAL;VALUE=DURATION:PT1H
X-Robots-Tag:noindex
X-PUBLISHED-TTL:PT1H
BEGIN:VTIMEZONE
TZID:America/Toronto
BEGIN:DAYLIGHT
TZOFFSETFROM:-0500
TZOFFSETTO:-0400
TZNAME:EDT
DTSTART:20260308T070000
END:DAYLIGHT
BEGIN:STANDARD
TZOFFSETFROM:-0400
TZOFFSETTO:-0500
TZNAME:EST
DTSTART:20261101T060000
END:STANDARD
END:VTIMEZONE
BEGIN:VEVENT
DTSTART;TZID=America/Toronto:20260425T103000
DTEND;TZID=America/Toronto:20260425T113000
DTSTAMP:20260419T234304
CREATED:20260331T010140Z
LAST-MODIFIED:20260331T010140Z
UID:10001384-1777113000-1777116600@eventregistration.belltowerwellness.com
SUMMARY:Puppy Yoga
DESCRIPTION:What’s more fun than a traditional yoga class?  PUPPY YOGA! \nPuppy yoga classes involve having adorable puppies roaming from one yoga mat to the next\, cuddling with participants\, and playing with other puppies as you move\, flow\, and breathe. \nPuppies are Golden Bernadoodles and will be available for adoption once they are old enough. \nJoin and snuggle\, Molly\, Ginger\, Baby Otto\, Burger\, Junior\, and Copper. \n$22.12 plus HST \nSaturday April 25 \n10:30am-11:30am \n45 minute Yoga Class and 15 min for extra cuddles.
URL:https://eventregistration.belltowerwellness.com/event/puppy-yoga-5/
LOCATION:Bell Tower\, 639 Bowan Street\, Mount Brydges\, ON\, N0L 1W0\, Canada
CATEGORIES:Event Space Rentals,Fitness Classes (Yoga/Pilates),Monthly Workshops
ATTACH;FMTTYPE=image/jpeg:https://eventregistration.belltowerwellness.com/wp-content/uploads/2026/03/E50C7D3C-BF53-448D-94F0-D1677BD675C1-e1774731981350.jpg
END:VEVENT
BEGIN:VEVENT
DTSTART;TZID=America/Toronto:20260424T180000
DTEND;TZID=America/Toronto:20260424T190000
DTSTAMP:20260419T234304
CREATED:20260402T003641Z
LAST-MODIFIED:20260402T003641Z
UID:10001391-1777053600-1777057200@eventregistration.belltowerwellness.com
SUMMARY:Puppy Yoga
DESCRIPTION:What’s more fun than a traditional yoga class?  PUPPY YOGA! \nPuppy yoga classes involve having adorable puppies roaming from one yoga mat to the next\, cuddling with participants\, and playing with other puppies as you move\, flow\, and breathe. \nPuppies are Golden Bernadoodles and will be available for adoption once they are old enough. \nJoin and snuggle\, Molly\, Ginger\, Baby Otto\, Burger\, Junior\, and Copper. \n$22.12 plus HST \nFriday April 24th \n6:00-7:00pm \n45 minute Yoga Class and 15 min for extra cuddles.
URL:https://eventregistration.belltowerwellness.com/event/puppy-yoga-7/
LOCATION:Bell Tower\, 639 Bowan Street\, Mount Brydges\, ON\, N0L 1W0\, Canada
CATEGORIES:Event Space Rentals,Fitness Classes (Yoga/Pilates),Monthly Workshops
ATTACH;FMTTYPE=image/jpeg:https://eventregistration.belltowerwellness.com/wp-content/uploads/2026/03/E50C7D3C-BF53-448D-94F0-D1677BD675C1-e1774731981350.jpg
END:VEVENT
BEGIN:VEVENT
DTSTART;TZID=America/Toronto:20260424T100000
DTEND;TZID=America/Toronto:20260424T160000
DTSTAMP:20260419T234304
CREATED:20260317T171917Z
LAST-MODIFIED:20260317T171917Z
UID:10001303-1777024800-1777046400@eventregistration.belltowerwellness.com
SUMMARY:Thermographic Imaging
DESCRIPTION:What is Thermography?\n\nThermography is medical heat imaging that measures infrared radiation (heat) emitted from the surface of your skin using a digital infrared thermal-imaging camera. The strength of thermography as a health assessment tool is its ability to detect and track minor physiological changes over time.\nHeat can indicate inflammation\, infection\, injury\, disease\, or irritation is present.\nAn abnormal infrared image is the single most important marker of high risk for developing breast cancer. We offer breast\, cranial\, dental\, thyroid\, and total-body imaging. Total-body thermography has applications in both sports medicine and long-term health monitoring.\n\nClick on the Website link below to book your appointment.\n\nAvailable dates:  Friday April 24   10:00am-4:00pm\nPrices listed on booking link for all services.\n\nThese appointments will be in the Wellness Clinic at 639 Bowan St. Mount Brydges.
URL:https://eventregistration.belltowerwellness.com/event/thermographic-imaging-5/
LOCATION:Bell Tower\, 639 Bowan Street\, Mount Brydges\, ON\, N0L 1W0\, Canada
CATEGORIES:Monthly Workshops
ATTACH;FMTTYPE=image/jpeg:https://eventregistration.belltowerwellness.com/wp-content/uploads/2026/03/thermography.jpeg
END:VEVENT
BEGIN:VEVENT
DTSTART;TZID=America/Toronto:20260423T193000
DTEND;TZID=America/Toronto:20260423T203000
DTSTAMP:20260419T234304
CREATED:20260217T153148Z
LAST-MODIFIED:20260217T153148Z
UID:10001249-1776972600-1776976200@eventregistration.belltowerwellness.com
SUMMARY:Pilates HIIT
DESCRIPTION:Fast paced\, high energy HIIT class to work your entire body.  Low impact\, high repetitions.  One of the best workouts to increase and improve endurance\, build muscular strength and burn fat.  Using Pilates principals of control and mind-body connection to turn on the core muscles.  Denise will give you a fun and high energy cardio workout to sweat and burn calories.  All fitness levels are welcome.
URL:https://eventregistration.belltowerwellness.com/event/pilates-hiit-152/
LOCATION:Bell Tower\, 639 Bowan Street\, Mount Brydges\, ON\, N0L 1W0\, Canada
CATEGORIES:Event Space Rentals,Fitness Classes (Yoga/Pilates)
ATTACH;FMTTYPE=image/webp:https://eventregistration.belltowerwellness.com/wp-content/uploads/2025/02/pilates-HIIT-workout-e1739980096511-1-1-1-1-e1739985559367-1.webp
END:VEVENT
BEGIN:VEVENT
DTSTART;TZID=America/Toronto:20260422T193000
DTEND;TZID=America/Toronto:20260422T203000
DTSTAMP:20260419T234304
CREATED:20260217T145939Z
LAST-MODIFIED:20260217T145939Z
UID:10001213-1776886200-1776889800@eventregistration.belltowerwellness.com
SUMMARY:Restorative Yoga
DESCRIPTION:If you are in need of deep relaxation\, this is the class for you.  Restorative yoga encourages physical\, mental\, and emotional relaxation.  This class is appropriate for all skill levels\, and focuses on slow movement\, long holds and deep breathing.
URL:https://eventregistration.belltowerwellness.com/event/restorative-yoga-61/
LOCATION:Bell Tower\, 639 Bowan Street\, Mount Brydges\, ON\, N0L 1W0\, Canada
CATEGORIES:Event Space Rentals,Fitness Classes (Yoga/Pilates)
ATTACH;FMTTYPE=image/jpeg:https://eventregistration.belltowerwellness.com/wp-content/uploads/2025/02/Yin-Restorative-Yoga-e1739988213600.jpg
END:VEVENT
BEGIN:VEVENT
DTSTART;TZID=America/Toronto:20260422T090000
DTEND;TZID=America/Toronto:20260422T100000
DTSTAMP:20260419T234304
CREATED:20260217T152656Z
LAST-MODIFIED:20260217T152656Z
UID:10001239-1776848400-1776852000@eventregistration.belltowerwellness.com
SUMMARY:Hatha Yoga
DESCRIPTION:This style of hatha yoga is based on the principals of alignment.  When the bones are aligned the wear and tear of gravity is much less.  We all have habitual ways of moving.  Pain is a signal that tells you the pattern of movement is not healthy.  Mindful alignment based yoga asks students to slow down and pay attention.  Denise teaches you how to observe your body and mind while practicing.
URL:https://eventregistration.belltowerwellness.com/event/hatha-yoga-25/
LOCATION:Bell Tower\, 639 Bowan Street\, Mount Brydges\, ON\, N0L 1W0\, Canada
CATEGORIES:Event Space Rentals,Fitness Classes (Yoga/Pilates)
ATTACH;FMTTYPE=image/webp:https://eventregistration.belltowerwellness.com/wp-content/uploads/2025/02/diverse_yoga_classadobestock_193167542_0-1-1024x683-1-1-e1739984639542.webp
END:VEVENT
BEGIN:VEVENT
DTSTART;TZID=America/Toronto:20260421T191500
DTEND;TZID=America/Toronto:20260421T200500
DTSTAMP:20260419T234304
CREATED:20260330T153456Z
LAST-MODIFIED:20260330T153456Z
UID:10001387-1776798900-1776801900@eventregistration.belltowerwellness.com
SUMMARY:Zumba Drop in class
DESCRIPTION:Every 50-minute class is a trip around the world\, packed with different rhythms\, heart-pumping beats\, and moves that make you forget you’re even working out. In Zumba\, we use a technique called “layering” to build progression within each song: we start with base movement\, add variations\, then throw in some sparkle to top it off! \n  \nYou’re walking in with purpose — and I’m here to help you crush those goals. Whether you want to level up your fitness or just leave feeling empowered and ready to kick butt at life… I’ve got you. \n\nLet’s turn up the volume and get moving. 
URL:https://eventregistration.belltowerwellness.com/event/zumba-drop-in-class-6/
LOCATION:Bell Tower\, 639 Bowan Street\, Mount Brydges\, ON\, N0L 1W0\, Canada
CATEGORIES:Event Space Rentals,Fitness Classes (Yoga/Pilates)
ATTACH;FMTTYPE=image/jpeg:https://eventregistration.belltowerwellness.com/wp-content/uploads/2026/03/Zumba-e1772389989383.jpg
END:VEVENT
BEGIN:VEVENT
DTSTART;TZID=America/Toronto:20260421T180000
DTEND;TZID=America/Toronto:20260421T190000
DTSTAMP:20260419T234304
CREATED:20260217T152314Z
LAST-MODIFIED:20260217T152314Z
UID:10001231-1776794400-1776798000@eventregistration.belltowerwellness.com
SUMMARY:Pilates
DESCRIPTION:Pilates is a full body workout that is designed to increase strength\, flexibility\, and balance using controlled movements\, postural alignment and breathing.
URL:https://eventregistration.belltowerwellness.com/event/pilates-37/
LOCATION:Bell Tower\, 639 Bowan Street\, Mount Brydges\, ON\, N0L 1W0\, Canada
CATEGORIES:Event Space Rentals,Fitness Classes (Yoga/Pilates)
ATTACH;FMTTYPE=image/jpeg:https://eventregistration.belltowerwellness.com/wp-content/uploads/2025/10/pilates-scaled-e1759675515550-2-2-1.jpg
END:VEVENT
BEGIN:VEVENT
DTSTART;TZID=America/Toronto:20260421T084500
DTEND;TZID=America/Toronto:20260421T094500
DTSTAMP:20260419T234304
CREATED:20260217T150332Z
LAST-MODIFIED:20260217T150332Z
UID:10001216-1776761100-1776764700@eventregistration.belltowerwellness.com
SUMMARY:Pilates HIIT
DESCRIPTION:Fast paced\, high energy HIIT class to work your entire body.  Low impact\, high repetitions.  One of the best workouts to increase and improve endurance\, build muscular strength and burn fat.  Using Pilates principals of control and mind-body connection to turn on the core muscles.  Denise will give you a fun and high energy cardio workout to sweat and burn calories.  All fitness levels are welcome.
URL:https://eventregistration.belltowerwellness.com/event/pilates-hiit-137/
LOCATION:Bell Tower\, 639 Bowan Street\, Mount Brydges\, ON\, N0L 1W0\, Canada
CATEGORIES:Event Space Rentals,Fitness Classes (Yoga/Pilates)
ATTACH;FMTTYPE=image/webp:https://eventregistration.belltowerwellness.com/wp-content/uploads/2025/02/pilates-HIIT-workout-e1739980096511-1-1-1-1-e1739985559367-1.webp
END:VEVENT
BEGIN:VEVENT
DTSTART;TZID=America/Toronto:20260420T100000
DTEND;TZID=America/Toronto:20260420T114500
DTSTAMP:20260419T234304
CREATED:20260402T024100Z
LAST-MODIFIED:20260402T030247Z
UID:10001398-1776679200-1776685500@eventregistration.belltowerwellness.com
SUMMARY:FREE Introduction to Mom and Baby Pilates & Guest Speaker Dr. Nicole Guitar Pelvic floor Physiotherapist
DESCRIPTION:Monday April 20th  (FREE) \n10:00am-10:45 Mom and Baby Pilates class with Alana Strom \n10:45-11:15 Guest Speaker Dr. Nicole Guitar Pelvic Floor Physiotherapist talks about Post Natal Pelvic Floor Muscle Health \n0-9 Month babies
URL:https://eventregistration.belltowerwellness.com/event/free-introduction-to-mom-and-baby-pilates-guest-speaker-nicole-guitar-pelvic-floor-physiotherapist/
LOCATION:Bell Tower\, 639 Bowan Street\, Mount Brydges\, ON\, N0L 1W0\, Canada
CATEGORIES:Event Space Rentals,Fitness Classes (Yoga/Pilates),Monthly Workshops
ATTACH;FMTTYPE=image/png:https://eventregistration.belltowerwellness.com/wp-content/uploads/2026/04/Black-and-Blue-Modern-Illustrative-Baby-Yoga-Logo-1-e1775097432469.png
END:VEVENT
BEGIN:VEVENT
DTSTART;TZID=America/Toronto:20260419T111500
DTEND;TZID=America/Toronto:20260419T121500
DTSTAMP:20260419T234304
CREATED:20260405T171559Z
LAST-MODIFIED:20260405T171559Z
UID:10001400-1776597300-1776600900@eventregistration.belltowerwellness.com
SUMMARY:Taylor Swift Music & Puppy Yoga
DESCRIPTION:What’s more fun than a traditional yoga class?   Taylor Swift music and PUPPY YOGA! \nPuppy yoga classes involve having adorable puppies roaming from one yoga mat to the next\, cuddling with participants\, and playing with other puppies as you move\, flow\, and breathe. \nPuppies are Golden Bernadoodles and will be available for adoption once they are old enough. \nJoin and snuggle\, Molly\, Ginger\, Baby Otto\, Burger\, Junior\, and Copper. \n$22.12 plus HST \nSunday April 19th \n11:15am-12:15pm \n45 minute Yoga Class and 15 min for extra cuddles. \nAGES 8 plus
URL:https://eventregistration.belltowerwellness.com/event/taylor-swift-music-puppy-yoga-2/
LOCATION:Bell Tower\, 639 Bowan Street\, Mount Brydges\, ON\, N0L 1W0\, Canada
CATEGORIES:Event Space Rentals,Fitness Classes (Yoga/Pilates),Monthly Workshops
ATTACH;FMTTYPE=image/png:https://eventregistration.belltowerwellness.com/wp-content/uploads/2026/04/Orange-and-Beige-Pastel-Illustrated-National-Puppy-Day-Instagram-Post-3-e1775409243863.png
END:VEVENT
BEGIN:VEVENT
DTSTART;TZID=America/Toronto:20260419T100000
DTEND;TZID=America/Toronto:20260419T110000
DTSTAMP:20260419T234304
CREATED:20260331T024305Z
LAST-MODIFIED:20260412T194801Z
UID:10001382-1776592800-1776596400@eventregistration.belltowerwellness.com
SUMMARY:Taylor Swift Music & Puppy Yoga
DESCRIPTION:What’s more fun than a traditional yoga class?   Taylor Swift music and PUPPY YOGA! \nPuppy yoga classes involve having adorable puppies roaming from one yoga mat to the next\, cuddling with participants\, and playing with other puppies as you move\, flow\, and breathe. \nPuppies are Golden Bernadoodles and will be available for adoption once they are old enough. \nJoin and snuggle\, Molly\, Ginger\, Baby Otto\, Burger\, Junior\, and Copper. \n$22.12 plus HST \nSunday April 19th \n10:00am-11:00am \n45 minute Yoga Class and 15 min for extra cuddles. \nAGES 8 plus
URL:https://eventregistration.belltowerwellness.com/event/taylor-swift-music-puppy-yoga/
LOCATION:Bell Tower\, 639 Bowan Street\, Mount Brydges\, ON\, N0L 1W0\, Canada
CATEGORIES:Event Space Rentals,Fitness Classes (Yoga/Pilates),Monthly Workshops
ATTACH;FMTTYPE=image/png:https://eventregistration.belltowerwellness.com/wp-content/uploads/2026/03/Orange-and-Beige-Pastel-Illustrated-National-Puppy-Day-Instagram-Post-2-e1774924809227.png
END:VEVENT
BEGIN:VEVENT
DTSTART;TZID=America/Toronto:20260419T083000
DTEND;TZID=America/Toronto:20260419T093000
DTSTAMP:20260419T234304
CREATED:20260217T153946Z
LAST-MODIFIED:20260305T150314Z
UID:10001268-1776587400-1776591000@eventregistration.belltowerwellness.com
SUMMARY:Pilates HIIT
DESCRIPTION:Fast paced\, high energy HIIT class to work your entire body.  Low impact\, high repetitions.  One of the best workouts to increase and improve endurance\, build muscular strength and burn fat.  Using Pilates principals of control and mind-body connection to turn on the core muscles.  Denise will give you a fun and high energy cardio workout to sweat and burn calories.  All fitness levels are welcome.
URL:https://eventregistration.belltowerwellness.com/event/pilates-hiit-161/
LOCATION:Bell Tower\, 639 Bowan Street\, Mount Brydges\, ON\, N0L 1W0\, Canada
CATEGORIES:Event Space Rentals,Fitness Classes (Yoga/Pilates)
ATTACH;FMTTYPE=image/webp:https://eventregistration.belltowerwellness.com/wp-content/uploads/2025/02/pilates-HIIT-workout-e1739985147798.webp
END:VEVENT
END:VCALENDAR