BEGIN:VCALENDAR
VERSION:2.0
PRODID:-//Bell Tower Wellness - ECPv6.9.1//NONSGML v1.0//EN
CALSCALE:GREGORIAN
METHOD:PUBLISH
X-WR-CALNAME:Bell Tower Wellness
X-ORIGINAL-URL:https://eventregistration.belltowerwellness.com
X-WR-CALDESC:Events for Bell Tower Wellness
REFRESH-INTERVAL;VALUE=DURATION:PT1H
X-Robots-Tag:noindex
X-PUBLISHED-TTL:PT1H
BEGIN:VTIMEZONE
TZID:America/Toronto
BEGIN:DAYLIGHT
TZOFFSETFROM:-0500
TZOFFSETTO:-0400
TZNAME:EDT
DTSTART:20260308T070000
END:DAYLIGHT
BEGIN:STANDARD
TZOFFSETFROM:-0400
TZOFFSETTO:-0500
TZNAME:EST
DTSTART:20261101T060000
END:STANDARD
END:VTIMEZONE
BEGIN:VEVENT
DTSTART;TZID=America/Toronto:20260422T193000
DTEND;TZID=America/Toronto:20260422T203000
DTSTAMP:20260423T095628
CREATED:20260217T145939Z
LAST-MODIFIED:20260217T145939Z
UID:10001213-1776886200-1776889800@eventregistration.belltowerwellness.com
SUMMARY:Restorative Yoga
DESCRIPTION:If you are in need of deep relaxation\, this is the class for you.  Restorative yoga encourages physical\, mental\, and emotional relaxation.  This class is appropriate for all skill levels\, and focuses on slow movement\, long holds and deep breathing.
URL:https://eventregistration.belltowerwellness.com/event/restorative-yoga-61/
LOCATION:Bell Tower\, 639 Bowan Street\, Mount Brydges\, ON\, N0L 1W0\, Canada
CATEGORIES:Event Space Rentals,Fitness Classes (Yoga/Pilates)
ATTACH;FMTTYPE=image/jpeg:https://eventregistration.belltowerwellness.com/wp-content/uploads/2025/02/Yin-Restorative-Yoga-e1739988213600.jpg
END:VEVENT
END:VCALENDAR